BEGIN:VCALENDAR
VERSION:2.0
PRODID:-//hacksw/handcal//NONSGML v1.0//EN
BEGIN:VEVENT
SUMMARY:Championnat seniors D2
UID:6d46cef3-5f28-41c2-ac08-79f3071db1da
DTSTART:20260419T113000Z
DTEND:20260419T133000Z
LOCATION:Localisation Stade de Kerlivio  Hennebont
CATEGORIES:Sportif
STATUS:
URL;VALUE=URI:https://www.essor-foot56.com/evenements/2026/04/19/championnat-seniors-d2-2440726
END:VEVENT
END:VCALENDAR
