BEGIN:VCALENDAR
VERSION:2.0
PRODID:-//hacksw/handcal//NONSGML v1.0//EN
BEGIN:VEVENT
SUMMARY:Futsal
UID:92c4b77c-549b-48f1-8cfc-cf5ddd29e76f
DTSTART:20260423T184500Z
DTEND:20260423T213000Z
LOCATION:Localisation Salle emeraude 56550 Locoal Mendon
CATEGORIES:Sportif
STATUS:
URL;VALUE=URI:https://www.essor-foot56.com/evenements/2026/04/23/futsal-2443032
END:VEVENT
END:VCALENDAR
