BEGIN:VCALENDAR
VERSION:2.0
PRODID:-//hacksw/handcal//NONSGML v1.0//EN
BEGIN:VEVENT
SUMMARY:Championnat seniors D2
UID:81acbd23-c3ec-46cf-9b74-bc79db69b7fe
DTSTART:20260426T133000Z
DTEND:20260426T153000Z
LOCATION:Localisation Stade municipal Emmanuel Le Visage 56570 Locmiquelic
CATEGORIES:Sportif
STATUS:
URL;VALUE=URI:https://www.essor-foot56.com/evenements/2026/04/26/championnat-seniors-d2-2443033
END:VEVENT
END:VCALENDAR
